BEGIN:VCALENDAR
METHOD:PUBLISH
PRODID:-//Educational Networks Inc//Educational Networks Calendar//EN
VERSION:2.0
CALSCALE:GREGORIAN
X-WR-CALNAME: Main Calendar
X-WR-TIMEZONE:US/Eastern
BEGIN:VTIMEZONE
TZID:US/East-Indiana
BEGIN:STANDARD
TZOFFSETFROM:-0500
TZOFFSETTO:-0500
DTSTART:19701025T020000
END:STANDARD
END:VTIMEZONE
BEGIN:VTIMEZONE
TZID:US/Eastern
BEGIN:STANDARD
TZOFFSETFROM:-0400
TZOFFSETTO:-0500
DTSTART:19701025T020000
RRULE:FREQ=YEARLY;BYMONTH=10;BYDAY=-1SU;UNTIL=20070311T020000
END:STANDARD
BEGIN:STANDARD
TZOFFSETFROM:-0400
TZOFFSETTO:-0500
DTSTART:20071104T020000
RRULE:FREQ=YEARLY;BYMONTH=11;BYDAY=1SU
END:STANDARD
BEGIN:DAYLIGHT
TZOFFSETFROM:-0500
TZOFFSETTO:-0400
DTSTART:19870405T020000
RRULE:FREQ=YEARLY;BYMONTH=4;BYDAY=1SU;UNTIL=20061029T020000
END:DAYLIGHT
BEGIN:DAYLIGHT
TZOFFSETFROM:-0500
TZOFFSETTO:-0400
DTSTART:20070311T020000
RRULE:FREQ=YEARLY;BYMONTH=3;BYDAY=2SU
END:DAYLIGHT
END:VTIMEZONE
BEGIN:VTIMEZONE
TZID:US/Michigan
BEGIN:STANDARD
TZOFFSETFROM:-0400
TZOFFSETTO:-0500
DTSTART:19701025T020000
RRULE:FREQ=YEARLY;BYMONTH=10;BYDAY=-1SU;UNTIL=20070311T020000
END:STANDARD
BEGIN:STANDARD
TZOFFSETFROM:-0400
TZOFFSETTO:-0500
DTSTART:20071104T020000
RRULE:FREQ=YEARLY;BYMONTH=11;BYDAY=1SU
END:STANDARD
BEGIN:DAYLIGHT
TZOFFSETFROM:-0500
TZOFFSETTO:-0400
DTSTART:19870405T020000
RRULE:FREQ=YEARLY;BYMONTH=4;BYDAY=1SU;UNTIL=20061029T020000
END:DAYLIGHT
BEGIN:DAYLIGHT
TZOFFSETFROM:-0500
TZOFFSETTO:-0400
DTSTART:20070311T020000
RRULE:FREQ=YEARLY;BYMONTH=3;BYDAY=2SU
END:DAYLIGHT
END:VTIMEZONE
BEGIN:VTIMEZONE
TZID:US/Central
BEGIN:STANDARD
TZOFFSETFROM:-0500
TZOFFSETTO:-0600
DTSTART:19701025T020000
RRULE:FREQ=YEARLY;BYMONTH=10;BYDAY=-1SU;UNTIL=20070311T020000
END:STANDARD
BEGIN:STANDARD
TZOFFSETFROM:-0500
TZOFFSETTO:-0600
DTSTART:20071104T020000
RRULE:FREQ=YEARLY;BYMONTH=11;BYDAY=1SU
END:STANDARD
BEGIN:DAYLIGHT
TZOFFSETFROM:-0600
TZOFFSETTO:-0500
DTSTART:19870405T020000
RRULE:FREQ=YEARLY;BYMONTH=4;BYDAY=1SU;UNTIL=20061029T020000
END:DAYLIGHT
BEGIN:DAYLIGHT
TZOFFSETFROM:-0600
TZOFFSETTO:-0500
DTSTART:20070311T020000
RRULE:FREQ=YEARLY;BYMONTH=3;BYDAY=2SU
END:DAYLIGHT
END:VTIMEZONE
BEGIN:VTIMEZONE
TZID:US/Mountain
BEGIN:STANDARD
TZOFFSETFROM:-0600
TZOFFSETTO:-0700
DTSTART:19701025T020000
RRULE:FREQ=YEARLY;BYMONTH=10;BYDAY=-1SU;UNTIL=20070311T020000
END:STANDARD
BEGIN:STANDARD
TZOFFSETFROM:-0600
TZOFFSETTO:-0700
DTSTART:20071104T020000
RRULE:FREQ=YEARLY;BYMONTH=11;BYDAY=1SU
END:STANDARD
BEGIN:DAYLIGHT
TZOFFSETFROM:-0700
TZOFFSETTO:-0600
DTSTART:19870405T020000
RRULE:FREQ=YEARLY;BYMONTH=4;BYDAY=1SU;UNTIL=20061029T020000
END:DAYLIGHT
BEGIN:DAYLIGHT
TZOFFSETFROM:-0700
TZOFFSETTO:-0600
DTSTART:20070311T020000
RRULE:FREQ=YEARLY;BYMONTH=3;BYDAY=2SU
END:DAYLIGHT
END:VTIMEZONE
BEGIN:VTIMEZONE
TZID:US/Arizona
BEGIN:STANDARD
TZOFFSETFROM:-0700
TZOFFSETTO:-0700
DTSTART:19701025T020000
END:STANDARD
END:VTIMEZONE
BEGIN:VTIMEZONE
TZID:US/Pacific
BEGIN:STANDARD
TZOFFSETFROM:-0700
TZOFFSETTO:-0800
DTSTART:19701025T020000
RRULE:FREQ=YEARLY;BYMONTH=10;BYDAY=-1SU;UNTIL=20070311T020000
END:STANDARD
BEGIN:STANDARD
TZOFFSETFROM:-0700
TZOFFSETTO:-0800
DTSTART:20071104T020000
RRULE:FREQ=YEARLY;BYMONTH=11;BYDAY=1SU
END:STANDARD
BEGIN:DAYLIGHT
TZOFFSETFROM:-0800
TZOFFSETTO:-0700
DTSTART:19870405T020000
RRULE:FREQ=YEARLY;BYMONTH=4;BYDAY=1SU;UNTIL=20061029T020000
END:DAYLIGHT
BEGIN:DAYLIGHT
TZOFFSETFROM:-0800
TZOFFSETTO:-0700
DTSTART:20070311T020000
RRULE:FREQ=YEARLY;BYMONTH=3;BYDAY=2SU
END:DAYLIGHT
END:VTIMEZONE
BEGIN:VTIMEZONE
TZID:US/Alaska
BEGIN:STANDARD
TZOFFSETFROM:-0800
TZOFFSETTO:-0900
DTSTART:19701025T020000
RRULE:FREQ=YEARLY;BYMONTH=10;BYDAY=-1SU;UNTIL=20070311T020000
END:STANDARD
BEGIN:STANDARD
TZOFFSETFROM:-0800
TZOFFSETTO:-0900
DTSTART:20071104T020000
RRULE:FREQ=YEARLY;BYMONTH=11;BYDAY=1SU
END:STANDARD
BEGIN:DAYLIGHT
TZOFFSETFROM:-0900
TZOFFSETTO:-0800
DTSTART:19870405T020000
RRULE:FREQ=YEARLY;BYMONTH=4;BYDAY=1SU;UNTIL=20061029T020000
END:DAYLIGHT
BEGIN:DAYLIGHT
TZOFFSETFROM:-0900
TZOFFSETTO:-0800
DTSTART:20070311T020000
RRULE:FREQ=YEARLY;BYMONTH=3;BYDAY=2SU
END:DAYLIGHT
END:VTIMEZONE
BEGIN:VTIMEZONE
TZID:US/Hawaii
BEGIN:STANDARD
TZOFFSETFROM:-1000
TZOFFSETTO:-1000
DTSTART:19701025T020000
END:STANDARD
END:VTIMEZONE
BEGIN:VTIMEZONE
TZID:US/Aleutian
BEGIN:STANDARD
TZOFFSETFROM:-1000
TZOFFSETTO:-1000
DTSTART:19701025T020000
END:STANDARD
END:VTIMEZONE
BEGIN:VTIMEZONE
TZID:US/Samoa
BEGIN:STANDARD
TZOFFSETFROM:-1100
TZOFFSETTO:-1100
DTSTART:19701025T020000
END:STANDARD
END:VTIMEZONE
BEGIN:VEVENT
DTSTAMP:20260417T120710Z
UID:3287134@highschool.winslow-schools.com
DTSTART;VALUE=DATE:20211004
DURATION:P1D
RRULE:FREQ=DAILY;INTERVAL=1;COUNT=5;WKST=SU
SUMMARY:Week of Respect 
END:VEVENT
BEGIN:VEVENT
DTSTAMP:20260417T120710Z
UID:3287173@highschool.winslow-schools.com
DTSTART;VALUE=DATE:20211012
DURATION:P1D
RRULE:FREQ=DAILY;INTERVAL=1;COUNT=4;WKST=SU
SUMMARY:WTHS Spirit Week 
END:VEVENT
BEGIN:VEVENT
DTSTAMP:20260417T120710Z
UID:3287164@highschool.winslow-schools.com
DTSTART;VALUE=DATE:20211018
DURATION:P1D
RRULE:FREQ=DAILY;INTERVAL=1;COUNT=5;WKST=SU
SUMMARY:Violence Awareness Week 
END:VEVENT
BEGIN:VEVENT
DTSTAMP:20260417T120710Z
UID:3287172@highschool.winslow-schools.com
DTSTART;VALUE=DATE:20211025
DURATION:P1D
RRULE:FREQ=DAILY;INTERVAL=1;COUNT=5;WKST=SU
SUMMARY:Red Ribbon Week 
END:VEVENT
BEGIN:VEVENT
DTSTAMP:20260417T120710Z
UID:3377620@highschool.winslow-schools.com
DTSTART;TZID=US/Eastern:20211025T120000
DTEND;TZID=US/Eastern:20211025T130000
RRULE:FREQ=DAILY;INTERVAL=1;COUNT=5;WKST=SU
SUMMARY:College and Career Week 
END:VEVENT
BEGIN:VEVENT
DTSTAMP:20260417T120710Z
UID:3265489@highschool.winslow-schools.com
DTSTART;VALUE=DATE:20211207
DURATION:P1D
RRULE:FREQ=DAILY;INTERVAL=1;COUNT=3;WKST=SU
SUMMARY:Early Dismissal Students- 11:19am
END:VEVENT
BEGIN:VEVENT
DTSTAMP:20260417T120710Z
UID:3265490@highschool.winslow-schools.com
DTSTART;TZID=US/Eastern:20211207T113000
DTEND;TZID=US/Eastern:20211207T143000
EXDATE;TZID=US/Eastern:20211209T113000
RRULE:FREQ=DAILY;INTERVAL=1;COUNT=3;WKST=SU
SUMMARY:Parent Teacher Conferences 
END:VEVENT
BEGIN:VEVENT
DTSTAMP:20260417T120710Z
UID:3265492@highschool.winslow-schools.com
DTSTART;VALUE=DATE:20211224
DURATION:P1D
EXDATE;TZID=US/Eastern:20211225
EXDATE;TZID=US/Eastern:20211226
RRULE:FREQ=DAILY;INTERVAL=1;COUNT=8;WKST=SU
SUMMARY:Winter Recess- School Closed
END:VEVENT
BEGIN:VEVENT
DTSTAMP:20260417T120710Z
UID:3479951@highschool.winslow-schools.com
DTSTART;VALUE=DATE:20220307
DURATION:P1D
RRULE:FREQ=DAILY;INTERVAL=1;COUNT=3;WKST=SU
SUMMARY:Course Selection - 11th Grade 
LOCATION:Library- See English schedule 
END:VEVENT
BEGIN:VEVENT
DTSTAMP:20260417T120710Z
UID:3489448@highschool.winslow-schools.com
DTSTART;VALUE=DATE:20220314
DURATION:P1D
RRULE:FREQ=DAILY;INTERVAL=1;COUNT=5;WKST=SU
SUMMARY:NJGPA 
END:VEVENT
BEGIN:VEVENT
DTSTAMP:20260417T120710Z
UID:3479974@highschool.winslow-schools.com
DTSTART;VALUE=DATE:20220322
DURATION:P1D
RRULE:FREQ=DAILY;INTERVAL=1;COUNT=4;WKST=SU
SUMMARY:Course Selection - 9th Grade 
LOCATION:Library - See English Schedule 
END:VEVENT
BEGIN:VEVENT
DTSTAMP:20260417T120710Z
UID:3265515@highschool.winslow-schools.com
DTSTART;VALUE=DATE:20220415
DURATION:P1D
EXDATE;TZID=US/Eastern:20220416
EXDATE;TZID=US/Eastern:20220417
EXDATE;TZID=US/Eastern:20220422
RRULE:FREQ=DAILY;INTERVAL=1;COUNT=8;WKST=SU
SUMMARY:Spring Recess - School Closed
END:VEVENT
BEGIN:VEVENT
DTSTAMP:20260417T120710Z
UID:3265896@highschool.winslow-schools.com
DTSTART;VALUE=DATE:20220427
DURATION:P1D
RRULE:FREQ=DAILY;INTERVAL=1;COUNT=6;WKST=SU
SUMMARY:Senior Trip to Orland\, Florida- Disney
END:VEVENT
BEGIN:VEVENT
DTSTAMP:20260417T120710Z
UID:3521604@highschool.winslow-schools.com
DTSTART;VALUE=DATE:20220502
DURATION:P1D
RRULE:FREQ=DAILY;INTERVAL=1;COUNT=5;WKST=SU
SUMMARY:AP Testing 
END:VEVENT
BEGIN:VEVENT
DTSTAMP:20260417T120710Z
UID:3513873@highschool.winslow-schools.com
DTSTART;VALUE=DATE:20220509
DURATION:P1D
RRULE:FREQ=DAILY;INTERVAL=1;COUNT=3;WKST=SU
SUMMARY:NJSLA - English Language Arts- 9th Grade 
END:VEVENT
BEGIN:VEVENT
DTSTAMP:20260417T120710Z
UID:3513879@highschool.winslow-schools.com
DTSTART;VALUE=DATE:20220509
DURATION:P1D
RRULE:FREQ=DAILY;INTERVAL=1;COUNT=4;WKST=SU
SUMMARY:NJSLA - Science- 11th Grade 
END:VEVENT
BEGIN:VEVENT
DTSTAMP:20260417T120710Z
UID:3521608@highschool.winslow-schools.com
DTSTART;VALUE=DATE:20220509
DURATION:P1D
RRULE:FREQ=DAILY;INTERVAL=1;COUNT=4;WKST=SU
SUMMARY:AP Testing 
END:VEVENT
BEGIN:VEVENT
DTSTAMP:20260417T120710Z
UID:3513876@highschool.winslow-schools.com
DTSTART;VALUE=DATE:20220512
DURATION:P1D
RRULE:FREQ=DAILY;INTERVAL=1;COUNT=2;WKST=SU
SUMMARY:NJSLA - Mathematics- 9th Grade 
END:VEVENT
BEGIN:VEVENT
DTSTAMP:20260417T120710Z
UID:3513880@highschool.winslow-schools.com
DTSTART;VALUE=DATE:20220516
DURATION:P1D
RRULE:FREQ=DAILY;INTERVAL=1;COUNT=3;WKST=SU
SUMMARY:NJSLA Make Ups- All Areas
END:VEVENT
BEGIN:VEVENT
DTSTAMP:20260417T120710Z
UID:3265541@highschool.winslow-schools.com
DTSTART;TZID=US/Eastern:20220519T190000
DTEND;TZID=US/Eastern:20220519T210000
RRULE:FREQ=DAILY;INTERVAL=1;COUNT=3;WKST=SU
SUMMARY:Spring Musical- "The Addams Family"
END:VEVENT
BEGIN:VEVENT
DTSTAMP:20260417T120710Z
UID:3265962@highschool.winslow-schools.com
DTSTART;VALUE=DATE:20220608
DURATION:P1D
EXDATE;TZID=US/Eastern:20220611
EXDATE;TZID=US/Eastern:20220612
RRULE:FREQ=DAILY;INTERVAL=1;COUNT=6;WKST=SU
SUMMARY:Early Dismissal Students- 11:19am 
END:VEVENT
BEGIN:VEVENT
DTSTAMP:20260417T120710Z
UID:3265913@highschool.winslow-schools.com
DTSTART;VALUE=DATE:20220609
DURATION:P1D
EXDATE;TZID=US/Eastern:20220611
EXDATE;TZID=US/Eastern:20220612
EXDATE;TZID=US/Eastern:20220613
EXDATE;TZID=US/Eastern:20220614
EXDATE;TZID=US/Eastern:20220609
EXDATE;TZID=US/Eastern:20220610
RRULE:FREQ=DAILY;INTERVAL=1;COUNT=6;WKST=SU
SUMMARY:Final Exams - Seniors Only 
END:VEVENT
BEGIN:VEVENT
DTSTAMP:20260417T120710Z
UID:3325128@highschool.winslow-schools.com
DTSTART;VALUE=DATE:20220610
DURATION:P1D
EXDATE;TZID=US/Eastern:20220611
EXDATE;TZID=US/Eastern:20220612
RRULE:FREQ=DAILY;INTERVAL=1;COUNT=5;WKST=SU
SUMMARY:Final Exam schedule - Underclassmen 
END:VEVENT
BEGIN:VEVENT
DTSTAMP:20260417T120710Z
UID:3265524@highschool.winslow-schools.com
DTSTART;VALUE=DATE:20220615
DURATION:P1D
EXDATE;TZID=US/Eastern:20220615
EXDATE;TZID=US/Eastern:20220616
EXDATE;TZID=US/Eastern:20220617
RRULE:FREQ=DAILY;INTERVAL=1;COUNT=3;WKST=SU
SUMMARY:Early Dismissal - 11:19am
END:VEVENT
BEGIN:VEVENT
DTSTAMP:20260417T120710Z
UID:3265536@highschool.winslow-schools.com
DTSTART;TZID=US/Eastern:20220615T071500
DTEND;TZID=US/Eastern:20220615T111900
EXDATE;TZID=US/Eastern:20220617T071500
RRULE:FREQ=DAILY;INTERVAL=1;COUNT=3;WKST=SU
SUMMARY:Senior Graduation Practice 
LOCATION:WTHS Varsity Football Field 
END:VEVENT
BEGIN:VEVENT
DTSTAMP:20260417T120710Z
UID:3524542@highschool.winslow-schools.com
DTSTART;TZID=US/Eastern:20220628T090000
DTEND;TZID=US/Eastern:20220628T140000
RRULE:FREQ=DAILY;INTERVAL=1;COUNT=2;WKST=SU
SUMMARY:Senior Portraits - Class of 2023
LOCATION:High School Cafeteria 
END:VEVENT
BEGIN:VEVENT
DTSTAMP:20260417T120710Z
UID:3572799@highschool.winslow-schools.com
DTSTART;TZID=US/Eastern:20220707T090000
DTEND;TZID=US/Eastern:20220707T140000
EXDATE;TZID=US/Eastern:20220707T090000
EXDATE;TZID=US/Eastern:20220708T090000
RRULE:FREQ=DAILY;INTERVAL=1;COUNT=2;WKST=SU
SUMMARY:Senior Portraits - Class of 2023
LOCATION:High School Cafeteria 
END:VEVENT
BEGIN:VEVENT
DTSTAMP:20260417T120710Z
UID:3584723@highschool.winslow-schools.com
DTSTART;TZID=US/Eastern:20220823T083000
DTEND;TZID=US/Eastern:20220823T120000
RRULE:FREQ=DAILY;INTERVAL=1;COUNT=3;WKST=SU
SUMMARY:Senior Parking Permit Appointments  
LOCATION:Main Office 
END:VEVENT
BEGIN:VEVENT
DTSTAMP:20260417T120710Z
UID:3590762@highschool.winslow-schools.com
DTSTART;VALUE=DATE:20230501
DURATION:P1D
RRULE:FREQ=DAILY;INTERVAL=1;COUNT=5;WKST=SU
SUMMARY:AP Assessments 
END:VEVENT
BEGIN:VEVENT
DTSTAMP:20260417T120710Z
UID:3590763@highschool.winslow-schools.com
DTSTART;VALUE=DATE:20230508
DURATION:P1D
RRULE:FREQ=DAILY;INTERVAL=1;COUNT=5;WKST=SU
SUMMARY:AP Assessments 
END:VEVENT
BEGIN:VEVENT
DTSTAMP:20260417T120710Z
UID:4016843@highschool.winslow-schools.com
DTSTART;TZID=US/Eastern:20231019T134500
DTEND;TZID=US/Eastern:20231019T184500
RRULE:FREQ=DAILY;INTERVAL=1;COUNT=2;WKST=SU
SUMMARY:Senior Portrait Make Ups 
LOCATION:Cafeteria 
END:VEVENT
BEGIN:VEVENT
DTSTAMP:20260417T120710Z
UID:4289207@highschool.winslow-schools.com
DTSTART;VALUE=DATE:20240329
DURATION:P1D
EXDATE;TZID=US/Eastern:20240330
EXDATE;TZID=US/Eastern:20240331
RRULE:FREQ=DAILY;INTERVAL=1;COUNT=7;WKST=SU
SUMMARY:Spring Recess - Schools/Offices Closed
END:VEVENT
BEGIN:VEVENT
DTSTAMP:20260417T120710Z
UID:4734721@highschool.winslow-schools.com
DTSTART;TZID=US/Eastern:20251120T180000
DTEND;TZID=US/Eastern:20251120T200000
RRULE:FREQ=DAILY;INTERVAL=1;COUNT=3;WKST=SU
SUMMARY:Fall Play- Charlotte's Web 
LOCATION:WTHS Auditorium 
END:VEVENT
BEGIN:VEVENT
DTSTAMP:20260417T120710Z
UID:4710561@highschool.winslow-schools.com
DTSTART;VALUE=DATE:20260119
DURATION:P1D
SUMMARY:Dr. Martin L. King Day-Schools/Offices Closed
END:VEVENT
BEGIN:VEVENT
DTSTAMP:20260417T120710Z
UID:4734695@highschool.winslow-schools.com
DTSTART;TZID=US/Eastern:20260122T080000
DTEND;TZID=US/Eastern:20260122T120000
SUMMARY:Elective Fair for WTMS Incoming Freshmen 
LOCATION:WTHS 
END:VEVENT
BEGIN:VEVENT
DTSTAMP:20260417T120710Z
UID:4710563@highschool.winslow-schools.com
DTSTART;VALUE=DATE:20260130
DURATION:P1D
SUMMARY:Last Day of 2nd Marking Period
END:VEVENT
BEGIN:VEVENT
DTSTAMP:20260417T120710Z
UID:4734875@highschool.winslow-schools.com
DTSTART;TZID=US/Eastern:20260203T183000
DTEND;TZID=US/Eastern:20260203T193000
SUMMARY:HSA Meeting
END:VEVENT
BEGIN:VEVENT
DTSTAMP:20260417T120710Z
UID:4900436@highschool.winslow-schools.com
DTSTART;TZID=US/Eastern:20260204T134500
DTEND;TZID=US/Eastern:20260204T143000
SUMMARY:National Signing Day- Athletic 
LOCATION:Changed to WTHS Cafeteria  
END:VEVENT
BEGIN:VEVENT
DTSTAMP:20260417T120710Z
UID:4905254@highschool.winslow-schools.com
DTSTART;VALUE=DATE:20260209
DURATION:P1D
RRULE:FREQ=DAILY;INTERVAL=1;COUNT=3;WKST=SU
SUMMARY:Course Selection for current 11th Grade students
LOCATION:English Class
END:VEVENT
BEGIN:VEVENT
DTSTAMP:20260417T120710Z
UID:4710565@highschool.winslow-schools.com
DTSTART;VALUE=DATE:20260210
DURATION:P1D
SUMMARY:Report Card Mailing ( Grades 7-12 )
END:VEVENT
BEGIN:VEVENT
DTSTAMP:20260417T120710Z
UID:5178380@highschool.winslow-schools.com
DTSTART;VALUE=DATE:20260211
DURATION:P1D
SUMMARY:PSAT 10 Registration Opens 
END:VEVENT
BEGIN:VEVENT
DTSTAMP:20260417T120710Z
UID:4905256@highschool.winslow-schools.com
DTSTART;VALUE=DATE:20260212
DURATION:P1D
SUMMARY:Course Selection for current 10th Grade students
LOCATION:English Class 
END:VEVENT
BEGIN:VEVENT
DTSTAMP:20260417T120710Z
UID:4900435@highschool.winslow-schools.com
DTSTART;TZID=US/Eastern:20260212T080000
DTEND;TZID=US/Eastern:20260212T110000
SUMMARY:Transition Fair 
LOCATION:WTHS Auxiliary Gym 
END:VEVENT
BEGIN:VEVENT
DTSTAMP:20260417T120710Z
UID:4734699@highschool.winslow-schools.com
DTSTART;TZID=US/Eastern:20260212T180000
DTEND;TZID=US/Eastern:20260212T200000
SUMMARY:Open House Expo - 8th Grade 
LOCATION:WTHS Auditorium and Cafeteria 
END:VEVENT
BEGIN:VEVENT
DTSTAMP:20260417T120710Z
UID:4710566@highschool.winslow-schools.com
DTSTART;VALUE=DATE:20260213
DURATION:P1D
SUMMARY:Early Dismissal Students - Staff In-Service PM 
END:VEVENT
BEGIN:VEVENT
DTSTAMP:20260417T120710Z
UID:4710569@highschool.winslow-schools.com
DTSTART;VALUE=DATE:20260216
DURATION:P1D
SUMMARY:Early Dismissal - Presidents Day
END:VEVENT
BEGIN:VEVENT
DTSTAMP:20260417T120710Z
UID:4905257@highschool.winslow-schools.com
DTSTART;VALUE=DATE:20260217
DURATION:P1D
RRULE:FREQ=DAILY;INTERVAL=1;COUNT=2;WKST=SU
SUMMARY:Course Selection for current 10th Grade students
LOCATION:English Class
END:VEVENT
BEGIN:VEVENT
DTSTAMP:20260417T120710Z
UID:4905259@highschool.winslow-schools.com
DTSTART;VALUE=DATE:20260219
DURATION:P1D
RRULE:FREQ=DAILY;INTERVAL=1;COUNT=2;WKST=SU
SUMMARY:Course Selection for current 9th Grade students
LOCATION:English Class
END:VEVENT
BEGIN:VEVENT
DTSTAMP:20260417T120710Z
UID:4905260@highschool.winslow-schools.com
DTSTART;VALUE=DATE:20260223
DURATION:P1D
RRULE:FREQ=DAILY;INTERVAL=1;COUNT=2;WKST=SU
SUMMARY:Course Selection for current 9th Grade students
LOCATION:English Class
END:VEVENT
BEGIN:VEVENT
DTSTAMP:20260417T120710Z
UID:5178382@highschool.winslow-schools.com
DTSTART;TZID=US/Eastern:20260226T140000
DTEND;TZID=US/Eastern:20260226T140000
SUMMARY:PSAT 10 Registration Closes
END:VEVENT
BEGIN:VEVENT
DTSTAMP:20260417T120710Z
UID:4905261@highschool.winslow-schools.com
DTSTART;VALUE=DATE:20260302
DURATION:P1D
RRULE:FREQ=DAILY;INTERVAL=1;COUNT=5;WKST=SU
SUMMARY:Course Selection for current 8th Grade students (Incoming 9th)
LOCATION:WTMS 
END:VEVENT
BEGIN:VEVENT
DTSTAMP:20260417T120710Z
UID:4734876@highschool.winslow-schools.com
DTSTART;TZID=US/Eastern:20260303T183000
DTEND;TZID=US/Eastern:20260303T193000
SUMMARY:HSA Meeting  - Canceled
LOCATION:WTHS Library 
END:VEVENT
BEGIN:VEVENT
DTSTAMP:20260417T120710Z
UID:4900437@highschool.winslow-schools.com
DTSTART;TZID=US/Eastern:20260309T180000
DTEND;TZID=US/Eastern:20260309T190000
SUMMARY:NJSLA / NJGPA Parent Night- New Date 
LOCATION:WTHS Auditorium 
END:VEVENT
BEGIN:VEVENT
DTSTAMP:20260417T120710Z
UID:5372614@highschool.winslow-schools.com
DTSTART;TZID=US/Eastern:20260312T180000
DTEND;TZID=US/Eastern:20260312T190000
SUMMARY:WTHS will hold a Virtual meeting with Rowan College of SJ- How to earn College Credits 
LOCATION:Virtual/Online- see flyer for link or QR code
END:VEVENT
BEGIN:VEVENT
DTSTAMP:20260417T120710Z
UID:4710570@highschool.winslow-schools.com
DTSTART;VALUE=DATE:20260313
DURATION:P1D
SUMMARY:Interim Report Mailings - (Grades 7-12)
END:VEVENT
BEGIN:VEVENT
DTSTAMP:20260417T120710Z
UID:4710571@highschool.winslow-schools.com
DTSTART;VALUE=DATE:20260317
DURATION:P1D
SUMMARY:Two Hour Delay for Students 
END:VEVENT
BEGIN:VEVENT
DTSTAMP:20260417T120710Z
UID:4710572@highschool.winslow-schools.com
DTSTART;VALUE=DATE:20260318
DURATION:P1D
SUMMARY:Early Dismissal Students - Evening Parent Conferences (PK-12)
END:VEVENT
BEGIN:VEVENT
DTSTAMP:20260417T120710Z
UID:4710574@highschool.winslow-schools.com
DTSTART;VALUE=DATE:20260319
DURATION:P1D
SUMMARY:Early Dismissal Students - Afternoon Parent Conferences (PK-12)
END:VEVENT
BEGIN:VEVENT
DTSTAMP:20260417T120710Z
UID:5177883@highschool.winslow-schools.com
DTSTART;VALUE=DATE:20260323
DURATION:P1D
EXDATE;TZID=US/Eastern:20260326
RRULE:FREQ=DAILY;INTERVAL=1;COUNT=4;WKST=SU
SUMMARY:NJGPA- Adaptive (Current 11th Grade Students)
END:VEVENT
BEGIN:VEVENT
DTSTAMP:20260417T120710Z
UID:5467153@highschool.winslow-schools.com
DTSTART;VALUE=DATE:20260326
DURATION:P1D
SUMMARY:NJGPA- Adaptive  - Make up testing start (Current 11th Grade Students)
END:VEVENT
BEGIN:VEVENT
DTSTAMP:20260417T120710Z
UID:4734843@highschool.winslow-schools.com
DTSTART;TZID=US/Eastern:20260326T190000
DTEND;TZID=US/Eastern:20260326T210000
RRULE:FREQ=DAILY;INTERVAL=1;COUNT=3;WKST=SU
SUMMARY:Spring Musical - Chicago: Teen Edition
LOCATION:WTHS Auditorium 
END:VEVENT
BEGIN:VEVENT
DTSTAMP:20260417T120710Z
UID:5178271@highschool.winslow-schools.com
DTSTART;VALUE=DATE:20260330
DURATION:P1D
SUMMARY:PSAT 10 
END:VEVENT
BEGIN:VEVENT
DTSTAMP:20260417T120710Z
UID:4710575@highschool.winslow-schools.com
DTSTART;VALUE=DATE:20260402
DURATION:P1D
SUMMARY:Early Dismissal
END:VEVENT
BEGIN:VEVENT
DTSTAMP:20260417T120710Z
UID:4710576@highschool.winslow-schools.com
DTSTART;VALUE=DATE:20260403
DTEND;VALUE=DATE:20260408
SUMMARY:Spring Recess-Schools/Offices Closed
END:VEVENT
BEGIN:VEVENT
DTSTAMP:20260417T120710Z
UID:4710577@highschool.winslow-schools.com
DTSTART;VALUE=DATE:20260408
DURATION:P1D
SUMMARY:Schools/Offices Reopen
END:VEVENT
BEGIN:VEVENT
DTSTAMP:20260417T120710Z
UID:4734877@highschool.winslow-schools.com
DTSTART;TZID=US/Eastern:20260414T183000
DTEND;TZID=US/Eastern:20260414T193000
SUMMARY:HSA Meeting 
LOCATION:WTHS Library 
END:VEVENT
BEGIN:VEVENT
DTSTAMP:20260417T120710Z
UID:4710579@highschool.winslow-schools.com
DTSTART;VALUE=DATE:20260415
DURATION:P1D
SUMMARY:Last Day of 3rd Marking Period
END:VEVENT
BEGIN:VEVENT
DTSTAMP:20260417T120710Z
UID:4739690@highschool.winslow-schools.com
DTSTART;VALUE=DATE:20260416
DTEND;VALUE=DATE:20260421
SUMMARY:Senior Class of 2026 Trip to Florida
END:VEVENT
BEGIN:VEVENT
DTSTAMP:20260417T120710Z
UID:5615143@highschool.winslow-schools.com
DTSTART;TZID=US/Eastern:20260421T180000
DTEND;TZID=US/Eastern:20260421T190000
SUMMARY:Leo Club Poetry Contest
LOCATION:WTHS Library 
END:VEVENT
BEGIN:VEVENT
DTSTAMP:20260417T120710Z
UID:4710581@highschool.winslow-schools.com
DTSTART;VALUE=DATE:20260424
DURATION:P1D
SUMMARY:Report Cards Mailing ( Grades 7-12 ) 
END:VEVENT
BEGIN:VEVENT
DTSTAMP:20260417T120710Z
UID:4734704@highschool.winslow-schools.com
DTSTART;TZID=US/Eastern:20260429T090000
DTEND;TZID=US/Eastern:20260429T110000
SUMMARY:Honors Recital 
LOCATION:WTHS Auditorium 
END:VEVENT
BEGIN:VEVENT
DTSTAMP:20260417T120710Z
UID:5529594@highschool.winslow-schools.com
DTSTART;VALUE=DATE:20260504
DTEND;VALUE=DATE:20260509
SUMMARY:AP Testing 
END:VEVENT
BEGIN:VEVENT
DTSTAMP:20260417T120710Z
UID:4734705@highschool.winslow-schools.com
DTSTART;TZID=US/Eastern:20260505T180000
DTEND;TZID=US/Eastern:20260505T200000
SUMMARY:Spring Concert 
LOCATION:WTHS Auditorium 
END:VEVENT
BEGIN:VEVENT
DTSTAMP:20260417T120710Z
UID:4739686@highschool.winslow-schools.com
DTSTART;TZID=US/Eastern:20260508T190000
DTEND;TZID=US/Eastern:20260508T230000
SUMMARY:WTHS Prom 
LOCATION:Brigalias- 396 Williamstown Rd\, Sicklerville\, NJ 08081
END:VEVENT
BEGIN:VEVENT
DTSTAMP:20260417T120710Z
UID:5529600@highschool.winslow-schools.com
DTSTART;VALUE=DATE:20260511
DTEND;VALUE=DATE:20260516
SUMMARY:AP Testing 
END:VEVENT
BEGIN:VEVENT
DTSTAMP:20260417T120710Z
UID:4734880@highschool.winslow-schools.com
DTSTART;TZID=US/Eastern:20260512T183000
DTEND;TZID=US/Eastern:20260512T193000
SUMMARY:HSA Meeting 
LOCATION:WTHS Library 
END:VEVENT
BEGIN:VEVENT
DTSTAMP:20260417T120710Z
UID:5529590@highschool.winslow-schools.com
DTSTART;TZID=US/Eastern:20260514T071900
DTEND;TZID=US/Eastern:20260515T103000
SUMMARY:NJSLA Science - Grade 11
END:VEVENT
BEGIN:VEVENT
DTSTAMP:20260417T120710Z
UID:4734706@highschool.winslow-schools.com
DTSTART;TZID=US/Eastern:20260514T180000
DTEND;TZID=US/Eastern:20260514T190000
SUMMARY:Thespian Awards 
LOCATION:WTHS Auditorium 
END:VEVENT
BEGIN:VEVENT
DTSTAMP:20260417T120710Z
UID:5529592@highschool.winslow-schools.com
DTSTART;TZID=US/Eastern:20260518T071900
DTEND;TZID=US/Eastern:20260520T103000
SUMMARY:NJSLA-A Math and English Lang. Arts - Grade 9
END:VEVENT
BEGIN:VEVENT
DTSTAMP:20260417T120710Z
UID:4734707@highschool.winslow-schools.com
DTSTART;TZID=US/Eastern:20260519T180000
DTEND;TZID=US/Eastern:20260519T193000
SUMMARY:Senior Awards 
LOCATION:WTHS Auditorium 
END:VEVENT
BEGIN:VEVENT
DTSTAMP:20260417T120710Z
UID:4734710@highschool.winslow-schools.com
DTSTART;TZID=US/Eastern:20260521T080000
DTEND;TZID=US/Eastern:20260521T120000
SUMMARY:Director's Cut - TV Production and Marketing 
LOCATION:WTHS Gymnasium 
END:VEVENT
BEGIN:VEVENT
DTSTAMP:20260417T120710Z
UID:4710584@highschool.winslow-schools.com
DTSTART;VALUE=DATE:20260522
DURATION:P1D
SUMMARY:Interim Report Mailings
END:VEVENT
BEGIN:VEVENT
DTSTAMP:20260417T120710Z
UID:4905251@highschool.winslow-schools.com
DTSTART;VALUE=DATE:20260522
DURATION:P1D
SUMMARY:Class of 2026- Senior Trip to Great Adventure 
END:VEVENT
BEGIN:VEVENT
DTSTAMP:20260417T120710Z
UID:4710585@highschool.winslow-schools.com
DTSTART;VALUE=DATE:20260525
DURATION:P1D
SUMMARY:Memorial Day-Schools/Offices Closed 
END:VEVENT
BEGIN:VEVENT
DTSTAMP:20260417T120710Z
UID:4734883@highschool.winslow-schools.com
DTSTART;TZID=US/Eastern:20260602T183000
DTEND;TZID=US/Eastern:20260602T193000
SUMMARY:HSA Meeting 
LOCATION:WTHS Library 
END:VEVENT
BEGIN:VEVENT
DTSTAMP:20260417T120710Z
UID:4734711@highschool.winslow-schools.com
DTSTART;TZID=US/Eastern:20260609T180000
DTEND;TZID=US/Eastern:20260609T190000
SUMMARY:Small Ensemble Concert 
LOCATION:WTHS Auditorium 
END:VEVENT
BEGIN:VEVENT
DTSTAMP:20260417T120710Z
UID:4735144@highschool.winslow-schools.com
DTSTART;TZID=US/Eastern:20260610T071900
DTEND;TZID=US/Eastern:20260610T111900
RRULE:FREQ=DAILY;INTERVAL=1;WKST=SU;UNTIL=20260612T035959Z
SUMMARY:Final Exams- Seniors Only - Early Dismissal Students 
END:VEVENT
BEGIN:VEVENT
DTSTAMP:20260417T120710Z
UID:4735208@highschool.winslow-schools.com
DTSTART;TZID=US/Eastern:20260612T071900
DTEND;TZID=US/Eastern:20260612T111900
SUMMARY:Final Exams - All Students - Early Dismissal Students 
END:VEVENT
BEGIN:VEVENT
DTSTAMP:20260417T120710Z
UID:4710587@highschool.winslow-schools.com
DTSTART;VALUE=DATE:20260615
DTEND;VALUE=DATE:20260618
SUMMARY:Early Dismissal Students
END:VEVENT
BEGIN:VEVENT
DTSTAMP:20260417T120710Z
UID:4735154@highschool.winslow-schools.com
DTSTART;TZID=US/Eastern:20260615T071900
DTEND;TZID=US/Eastern:20260615T111900
SUMMARY:Final Exams - All Students - Early Dismissal Students 
END:VEVENT
BEGIN:VEVENT
DTSTAMP:20260417T120710Z
UID:4735173@highschool.winslow-schools.com
DTSTART;VALUE=DATE:20260616
DURATION:P1D
SUMMARY:Final Exam Make Ups- Seniors Only 
END:VEVENT
BEGIN:VEVENT
DTSTAMP:20260417T120710Z
UID:4735164@highschool.winslow-schools.com
DTSTART;TZID=US/Eastern:20260616T071900
DTEND;TZID=US/Eastern:20260616T111900
RRULE:FREQ=DAILY;INTERVAL=1;WKST=SU;UNTIL=20260618T035959Z
SUMMARY:Final Exams - Grades 9-11 - Early Dismissal Students 
END:VEVENT
BEGIN:VEVENT
DTSTAMP:20260417T120710Z
UID:4710593@highschool.winslow-schools.com
DTSTART;VALUE=DATE:20260618
DURATION:P1D
SUMMARY:Early Dismissal Students & Last Day of School / Last Day of School Staff (Full Day) 
END:VEVENT
BEGIN:VEVENT
DTSTAMP:20260417T120710Z
UID:4735167@highschool.winslow-schools.com
DTSTART;VALUE=DATE:20260618
DURATION:P1D
SUMMARY:Final Exam Make Ups - Grade 9-11
END:VEVENT
BEGIN:VEVENT
DTSTAMP:20260417T120710Z
UID:4734714@highschool.winslow-schools.com
DTSTART;TZID=US/Eastern:20260618T090000
DTEND;TZID=US/Eastern:20260618T110000
SUMMARY:Senior Class Brunch 
LOCATION:WTHS Gymnasium 
END:VEVENT
BEGIN:VEVENT
DTSTAMP:20260417T120710Z
UID:4734864@highschool.winslow-schools.com
DTSTART;TZID=US/Eastern:20260618T180000
DTEND;TZID=US/Eastern:20260618T190000
SUMMARY:Graduation Ceremony 
END:VEVENT
BEGIN:VEVENT
DTSTAMP:20260417T120710Z
UID:4710594@highschool.winslow-schools.com
DTSTART;VALUE=DATE:20260619
DURATION:P1D
SUMMARY:Juneteenth Day Offices Closed
END:VEVENT
END:VCALENDAR